BEGIN:VCALENDAR
VERSION:2.0
PRODID:-//Philm Factory - ECPv6.15.20//NONSGML v1.0//EN
CALSCALE:GREGORIAN
METHOD:PUBLISH
X-WR-CALNAME:Philm Factory
X-ORIGINAL-URL:https://philmfactory.org
X-WR-CALDESC:Events for Philm Factory
REFRESH-INTERVAL;VALUE=DURATION:PT1H
X-Robots-Tag:noindex
X-PUBLISHED-TTL:PT1H
BEGIN:VTIMEZONE
TZID:UTC
BEGIN:STANDARD
TZOFFSETFROM:+0000
TZOFFSETTO:+0000
TZNAME:UTC
DTSTART:20220101T000000
END:STANDARD
END:VTIMEZONE
BEGIN:VEVENT
DTSTART;TZID=UTC:20230324T180000
DTEND;TZID=UTC:20230324T200000
DTSTAMP:20260420T203313
CREATED:20230316T205005Z
LAST-MODIFIED:20230316T213636Z
UID:835-1679680800-1679688000@philmfactory.org
SUMMARY:Film Town Hall
DESCRIPTION:Philly Film Town Hall hosted by the Philm Factory | Reimagining Philly’s Film Culture \nWe want to enhance the film economy and culture here but we need YOUR VOICE so that we can be ONE VOICE! \nWe are dedicated to serving our local film community. As the Philadelphia Film Factory\, we are hosting our first “Film Town Hall Meeting” which gives local film community members a voice to express ideas\, concerns\, thoughts and opinions about the current state of Philadelphia’s film economy with the purpose of developing solutions and a plan for a stronger film community here in the city. \nCome out and let your voice be heard on March 24th! This includes all film community members from above and below the line talent and crew (writers\, directors\, cinematographers\, makeup artist\, editors\, set designers\, special effects\, producers\, casting directors\, union and non-union\, gaffers\, AD’s\, Production designers\, production assistants\, actors\, prop masters\, gaffers\, etc.) \nRefreshments: First-come-first-served basis \nWe will begin promptly at 6 pm\, we ask that all guest arrive 15 minutes prior to account for parking and getting in the building. \nThere will be an agenda provided upon entry. \nStreet Parking**** \nWe look forward to meeting and networking with you! \n 
URL:https://philmfactory.org/event/film-town-hall/
LOCATION:Community Education Center\, 3500 Lancaster Avenue\, Philadelphia PA\, 19104\, United States
CATEGORIES:Town Hall
ATTACH;FMTTYPE=image/jpeg:https://philmfactory.org/wp-content/uploads/2023/03/Film-Town-Hall-_Web.jpg
END:VEVENT
END:VCALENDAR